BEGIN:VCALENDAR
VERSION:2.0
PRODID:-//Försäkringsjuridiska Föreningen - ECPv6.15.20//NONSGML v1.0//EN
CALSCALE:GREGORIAN
METHOD:PUBLISH
X-ORIGINAL-URL:https://forsakringsjuridiskaforeningen.se
X-WR-CALDESC:Händelser för Försäkringsjuridiska Föreningen
REFRESH-INTERVAL;VALUE=DURATION:PT1H
X-Robots-Tag:noindex
X-PUBLISHED-TTL:PT1H
BEGIN:VTIMEZONE
TZID:Europe/Stockholm
BEGIN:DAYLIGHT
TZOFFSETFROM:+0100
TZOFFSETTO:+0200
TZNAME:CEST
DTSTART:20250330T010000
END:DAYLIGHT
BEGIN:STANDARD
TZOFFSETFROM:+0200
TZOFFSETTO:+0100
TZNAME:CET
DTSTART:20251026T010000
END:STANDARD
BEGIN:DAYLIGHT
TZOFFSETFROM:+0100
TZOFFSETTO:+0200
TZNAME:CEST
DTSTART:20260329T010000
END:DAYLIGHT
BEGIN:STANDARD
TZOFFSETFROM:+0200
TZOFFSETTO:+0100
TZNAME:CET
DTSTART:20261025T010000
END:STANDARD
BEGIN:DAYLIGHT
TZOFFSETFROM:+0100
TZOFFSETTO:+0200
TZNAME:CEST
DTSTART:20270328T010000
END:DAYLIGHT
BEGIN:STANDARD
TZOFFSETFROM:+0200
TZOFFSETTO:+0100
TZNAME:CET
DTSTART:20271031T010000
END:STANDARD
END:VTIMEZONE
BEGIN:VEVENT
DTSTART;TZID=Europe/Stockholm:20260423T140000
DTEND;TZID=Europe/Stockholm:20260423T190000
DTSTAMP:20260423T173115
CREATED:20260319T192704Z
LAST-MODIFIED:20260410T212115Z
UID:2379-1776952800-1776970800@forsakringsjuridiskaforeningen.se
SUMMARY:AIDA-dagen 2026
DESCRIPTION:Torsdagen den 23 april 2026 kl. 14.00 hos Advokatfirman Vinge\, Smålandsgatan 20\, Stockholm. \nMötet är öppet för föreningens medlemmar och pågår till ca kl 17 och följs av middagsbuffé. Kostnaden för möte och middag (buffé samt vin/öl/alkoholfritt alternativ) är 495 kr. Kostnad för enbart möte (inklusive fika) är 100 kr. Kostnaden debiteras i efterhand. Om avanmälan sker mindre än 24 timmar innan evenemanget debiteras fullt pris. \nAnmälan sker senast den 17 april 2026. \nVäl mött!\nStyrelsen
URL:https://forsakringsjuridiskaforeningen.se/event/aida-dagen-2026/
LOCATION:Advokatfirman Vinge\, Smålandsgatan 20\, Stockholm
END:VEVENT
END:VCALENDAR